BEGIN:VCALENDAR
VERSION:2.0
PRODID:-//bgcshc.org//NONSGML kigkonsult.se iCalcreator 2.30.10//
CALSCALE:GREGORIAN
METHOD:PUBLISH
UID:0176e68b-8f5e-41f2-82dd-d7e05347cac0
X-WR-CALDESC:Kick off summer with the Boys & Girls Clubs of St. Helena and 
 Calistoga at our St. Helena Clubhouse! Join us on May 29 from 3:30–5:30 PM
  for a fun\, family-friendly afternoon featuring bouncy houses\, face pain
 ting\, bubbles\, games room tournaments\, and more. This free event is ope
 n to all local families—come see what the Club is all about\, register for
  summer programs onsite\, and celebrate the start of summer with us!
X-WR-RELCALID:ac96b3158dbcd24a3bf2a9fac07dd755
X-WR-TIMEZONE:America/Los_Angeles
BEGIN:VTIMEZONE
TZID:America/Los_Angeles
BEGIN:STANDARD
TZNAME:PST
DTSTART:20251102T020000
TZOFFSETFROM:-0700
TZOFFSETTO:-0800
RDATE:20261101T020000
RDATE:20271107T020000
END:STANDARD
BEGIN:DAYLIGHT
TZNAME:PDT
DTSTART:20260308T020000
TZOFFSETFROM:-0800
TZOFFSETTO:-0700
RDATE:20270314T020000
END:DAYLIGHT
END:VTIMEZONE
BEGIN:VEVENT
UID:90d89cc2-7b11-444d-bb4f-a22dbda11efc
DTSTAMP:20260420T204549Z
DESCRIPTION:Kick off summer with the Boys & Girls Clubs of St. Helena and C
 alistoga at our St. Helena Clubhouse! Join us on May 29 from 3:30–5:30 PM 
 for a fun\, family-friendly afternoon featuring bouncy houses\, face paint
 ing\, bubbles\, games room tournaments\, and more. This free event is open
  to all local families—come see what the Club is all about\, register for 
 summer programs onsite\, and celebrate the start of summer with us!
DTSTART;TZID=America/Los_Angeles:20260529T153000
DTEND;TZID=America/Los_Angeles:20260529T173000
LOCATION:St. Helena Clubhouse\, 1420 Tainter Street\, St. Helena\, CA 94574
  US
SUMMARY:Kick Off to Summer: St. Helena
END:VEVENT
END:VCALENDAR
