BEGIN:VCALENDAR
VERSION:2.0
PRODID:-//bgcshc.org//NONSGML kigkonsult.se iCalcreator 2.30.10//
CALSCALE:GREGORIAN
METHOD:PUBLISH
UID:6b291401-e4e2-4a40-a9ff-a1c3b5dce6a7
X-WR-CALDESC:Support local youth with a simple (and delicious) choice at Pa
 lisades Eatery in Calistoga from May 18–22.\n\nDuring this special “Club f
 or the Club” promotion\, 10% of all Club Sandwiches sold will be donated t
 o the Boys & Girls Clubs of St. Helena and Calistoga. Just order a Club Sa
 ndwich and your meal will help support programs that provide a safe\, supp
 ortive place for local kids and teens to learn\, grow\, and thrive.\n\nWhe
 ther you’re a regular or stopping in for the first time\, it’s an easy way
  to give back—one sandwich at a time.\n\nThank you for supporting our comm
 unity.
X-WR-RELCALID:823581b1c36a9f9a404f95ceaec54a14
X-WR-TIMEZONE:America/Los_Angeles
BEGIN:VTIMEZONE
TZID:America/Los_Angeles
BEGIN:STANDARD
TZNAME:PST
DTSTART:20251102T020000
TZOFFSETFROM:-0700
TZOFFSETTO:-0800
RDATE:20261101T020000
RDATE:20271107T020000
END:STANDARD
BEGIN:DAYLIGHT
TZNAME:PDT
DTSTART:20260308T020000
TZOFFSETFROM:-0800
TZOFFSETTO:-0700
RDATE:20270314T020000
END:DAYLIGHT
END:VTIMEZONE
BEGIN:VEVENT
UID:f8726a56-d572-449b-8909-503e96da26a1
DTSTAMP:20260420T232908Z
DESCRIPTION:Support local youth with a simple (and delicious) choice at Pal
 isades Eatery in Calistoga from May 18–22.\n\nDuring this special “Club fo
 r the Club” promotion\, 10% of all Club Sandwiches sold will be donated to
  the Boys & Girls Clubs of St. Helena and Calistoga. Just order a Club San
 dwich and your meal will help support programs that provide a safe\, suppo
 rtive place for local kids and teens to learn\, grow\, and thrive.\n\nWhet
 her you’re a regular or stopping in for the first time\, it’s an easy way 
 to give back—one sandwich at a time.\n\nThank you for supporting our commu
 nity.
DTSTART;TZID=America/Los_Angeles:20260518T110000
DTEND;TZID=America/Los_Angeles:20260518T200000
LOCATION:Palisades Eatery\, 1414 Lincoln Ave\, Calistoga\, CA 94515 US
SUMMARY:Dine & Donate- Palisades Eatery: 'Club for the Club!'
END:VEVENT
END:VCALENDAR
